BEGIN:VCALENDAR
VERSION:2.0
PRODID:-//Library Market//iCal Export//EN
BEGIN:VEVENT
SUMMARY:Danny Dollar Training
UID:13805
DTSTAMP:20260424T092900Z
DTSTART:20260815T180000Z
DTEND:20260815T193000Z
LOCATION:East Hancock Public Library, 4545 Shepherd Square, Diamondhead, M
 S 39525, United States
ROOM: EH Meeting Room
DESCRIPTION:Financial Literacy for kids
URL:https://hcls.librarycalendar.com/event/danny-dollar-training-13805
END:VEVENT
END:VCALENDAR
