BEGIN:VCALENDAR
VERSION:2.0
PRODID:-//Library Market//iCal Export//EN
BEGIN:VEVENT
SUMMARY:Senior Stretch and Strength
UID:13869
DTSTAMP:20260424T160800Z
DTSTART:20260521T170000Z
DTEND:20260521T180000Z
LOCATION:Bay St. Louis Public Library, 312 Highway 90, Bay St. Louis, MS 3
 9520, United States
ROOM: BSL Meeting Room
DESCRIPTION:Thursdays at the BSL branch, you can get long, lean, and STRON
 G with personal trainer Gina Suprean.Â This intermediate class is free and
  open to the public.Â Please bring your own yoga mat and a stretchy band.Â
  
URL:https://hcls.librarycalendar.com/event/senior-stretch-and-strength-138
 69
END:VEVENT
END:VCALENDAR
